BEGIN:VCALENDAR
VERSION:2.0
PRODID:-//KERTERRE - ECPv6.15.17.1//NONSGML v1.0//EN
CALSCALE:GREGORIAN
METHOD:PUBLISH
X-WR-CALNAME:KERTERRE
X-ORIGINAL-URL:https://kerterre.org
X-WR-CALDESC:Évènements pour KERTERRE
REFRESH-INTERVAL;VALUE=DURATION:PT1H
X-Robots-Tag:noindex
X-PUBLISHED-TTL:PT1H
BEGIN:VTIMEZONE
TZID:UTC
BEGIN:STANDARD
TZOFFSETFROM:+0000
TZOFFSETTO:+0000
TZNAME:UTC
DTSTART:20200101T000000
END:STANDARD
END:VTIMEZONE
BEGIN:VEVENT
DTSTART;VALUE=DATE:20210705
DTEND;VALUE=DATE:20210710
DTSTAMP:20260421T050804
CREATED:20210118T131234Z
LAST-MODIFIED:20210624T185353Z
UID:17765-1625443200-1625875199@kerterre.org
SUMMARY:UNE KERTERRE AUX PORTES D'AVAUGOUR - BASE 1
DESCRIPTION:
URL:https://kerterre.org/stages/une-kerterre-aux-portes-davaugour-base-1/
LOCATION:saint péver\, Saint Pever\, Côtes d'Armor\, 22720\, France
END:VEVENT
END:VCALENDAR