BEGIN:VCALENDAR
VERSION:2.0
PRODID:-//KERTERRE - ECPv6.15.17.1//NONSGML v1.0//EN
CALSCALE:GREGORIAN
METHOD:PUBLISH
X-WR-CALNAME:KERTERRE
X-ORIGINAL-URL:https://kerterre.org
X-WR-CALDESC:Évènements pour KERTERRE
REFRESH-INTERVAL;VALUE=DURATION:PT1H
X-Robots-Tag:noindex
X-PUBLISHED-TTL:PT1H
BEGIN:VTIMEZONE
TZID:UTC
BEGIN:STANDARD
TZOFFSETFROM:+0000
TZOFFSETTO:+0000
TZNAME:UTC
DTSTART:20200101T000000
END:STANDARD
END:VTIMEZONE
BEGIN:VEVENT
DTSTART;VALUE=DATE:20210712
DTEND;VALUE=DATE:20210731
DTSTAMP:20260421T050638
CREATED:20201204T163132Z
LAST-MODIFIED:20210708T104341Z
UID:17208-1626048000-1627689599@kerterre.org
SUMMARY:FORMATION COMPLETE KERTERRE JUILLET 2021
DESCRIPTION:
URL:https://kerterre.org/stages/formation-complete-kerterre-juillet-2021/
LOCATION:Centre de Formation Kerterre\, Route de Lanvénael\, Plomeur\, Bretagne\, 29120\, France
CATEGORIES:Formation longue
END:VEVENT
BEGIN:VEVENT
DTSTART;VALUE=DATE:20210719
DTEND;VALUE=DATE:20210723
DTSTAMP:20260421T050638
CREATED:20201230T143031Z
LAST-MODIFIED:20210714T094302Z
UID:17505-1626652800-1626998399@kerterre.org
SUMMARY:UNE KERTERRE A LA FERME DES CHANVR'AILES - BASE 2
DESCRIPTION:
URL:https://kerterre.org/stages/une-kerterre-a-la-ferme-des-chanvrailes-base-2/
LOCATION:Chez Aurore\, Briançon\, Hautes Alpes\, France
CATEGORIES:Formation courte,Stage Base 2
END:VEVENT
BEGIN:VEVENT
DTSTART;VALUE=DATE:20210719
DTEND;VALUE=DATE:20210724
DTSTAMP:20260421T050638
CREATED:20210621T095355Z
LAST-MODIFIED:20210621T095355Z
UID:20171-1626652800-1627084799@kerterre.org
SUMMARY:BASE 1 - STAGE SOLIDAIRE A L'OASIS LA NOURRICE EN PARTENARIAT AVEC EKO
DESCRIPTION:
URL:https://kerterre.org/stages/base-1-stage-solidaire-a-loasis-la-nourrice-en-partenariat-avec-eko/
LOCATION:Fuveau\, France
END:VEVENT
END:VCALENDAR