BEGIN:VCALENDAR
VERSION:2.0
PRODID:-//KERTERRE - ECPv6.15.17.1//NONSGML v1.0//EN
CALSCALE:GREGORIAN
METHOD:PUBLISH
X-WR-CALNAME:KERTERRE
X-ORIGINAL-URL:https://kerterre.org
X-WR-CALDESC:Évènements pour KERTERRE
REFRESH-INTERVAL;VALUE=DURATION:PT1H
X-Robots-Tag:noindex
X-PUBLISHED-TTL:PT1H
BEGIN:VTIMEZONE
TZID:UTC
BEGIN:STANDARD
TZOFFSETFROM:+0000
TZOFFSETTO:+0000
TZNAME:UTC
DTSTART:20200101T000000
END:STANDARD
END:VTIMEZONE
BEGIN:VEVENT
DTSTART;VALUE=DATE:20210807
DTEND;VALUE=DATE:20210812
DTSTAMP:20260421T033337
CREATED:20210502T075848Z
LAST-MODIFIED:20210502T075939Z
UID:19644-1628294400-1628726399@kerterre.org
SUMMARY:Jardin bonifiant 7 Août 2021
DESCRIPTION:
URL:https://kerterre.org/stages/jardin-bonifiant-7-aout-2021/
LOCATION:Centre de Formation Kerterre\, Route de Lanvénael\, Plomeur\, Bretagne\, 29120\, France
END:VEVENT
BEGIN:VEVENT
DTSTART;VALUE=DATE:20210809
DTEND;VALUE=DATE:20210813
DTSTAMP:20260421T033337
CREATED:20210502T090614Z
LAST-MODIFIED:20210527T101556Z
UID:19663-1628467200-1628812799@kerterre.org
SUMMARY:SUR LE SITE DES KERTERRES - BASE 2
DESCRIPTION:
URL:https://kerterre.org/stages/sur-le-site-des-kerterres-base-2/
LOCATION:Centre de Formation Kerterre\, Route de Lanvénael\, Plomeur\, Bretagne\, 29120\, France
END:VEVENT
BEGIN:VEVENT
DTSTART;VALUE=DATE:20210809
DTEND;VALUE=DATE:20210814
DTSTAMP:20260421T033337
CREATED:20201203T092555Z
LAST-MODIFIED:20210805T091353Z
UID:17107-1628467200-1628899199@kerterre.org
SUMMARY:UNE KERTERRE DANS LA REGION DE BORDEAUX - BASE 1
DESCRIPTION:
URL:https://kerterre.org/stages/une-kerterre-dans-la-region-de-bordeaux/
LOCATION:Centre Anjali\, Castillon-la-Bataille\, Gironde\, 33350\, France
CATEGORIES:Formation courte,Stage Base 1
END:VEVENT
BEGIN:VEVENT
DTSTART;VALUE=DATE:20210809
DTEND;VALUE=DATE:20210828
DTSTAMP:20260421T033337
CREATED:20210122T160642Z
LAST-MODIFIED:20210806T141847Z
UID:17856-1628467200-1630108799@kerterre.org
SUMMARY:FORMATION COMPLETE AOÛT 2021
DESCRIPTION:
URL:https://kerterre.org/stages/formation-complete-aout-2021-2/
LOCATION:Centre de Formation Kerterre\, Route de Lanvénael\, Plomeur\, Bretagne\, 29120\, France
CATEGORIES:Formation longue
END:VEVENT
END:VCALENDAR