BEGIN:VCALENDAR
VERSION:2.0
PRODID:-//KERTERRE - ECPv6.15.17.1//NONSGML v1.0//EN
CALSCALE:GREGORIAN
METHOD:PUBLISH
X-WR-CALNAME:KERTERRE
X-ORIGINAL-URL:https://kerterre.org
X-WR-CALDESC:Évènements pour KERTERRE
REFRESH-INTERVAL;VALUE=DURATION:PT1H
X-Robots-Tag:noindex
X-PUBLISHED-TTL:PT1H
BEGIN:VTIMEZONE
TZID:UTC
BEGIN:STANDARD
TZOFFSETFROM:+0000
TZOFFSETTO:+0000
TZNAME:UTC
DTSTART:20200101T000000
END:STANDARD
END:VTIMEZONE
BEGIN:VEVENT
DTSTART;VALUE=DATE:20210904
DTEND;VALUE=DATE:20210908
DTSTAMP:20260421T015241
CREATED:20201229T125441Z
LAST-MODIFIED:20210829T155310Z
UID:17485-1630713600-1631059199@kerterre.org
SUMMARY:UNE KERTERRE EN HAUTE LOIRE - BASE 2
DESCRIPTION:
URL:https://kerterre.org/stages/une-kerterre-en-haute-loire-base-2/
LOCATION:Chez Aurélie et Willy\, Retournac\, Haute Loire\, 43130\, France
CATEGORIES:Formation courte,Stage Base 1
END:VEVENT
BEGIN:VEVENT
DTSTART;VALUE=DATE:20210906
DTEND;VALUE=DATE:20210911
DTSTAMP:20260421T015241
CREATED:20210303T144936Z
LAST-MODIFIED:20210819T133422Z
UID:18694-1630886400-1631318399@kerterre.org
SUMMARY:BASE 1 - UNE KERTERRE AU MUSCARDIN
DESCRIPTION:
URL:https://kerterre.org/stages/base-1-une-kerterre-au-muscardin/
LOCATION:A Luc-en-Diois\, France
END:VEVENT
BEGIN:VEVENT
DTSTART;VALUE=DATE:20210906
DTEND;VALUE=DATE:20210911
DTSTAMP:20260421T015241
CREATED:20210503T131315Z
LAST-MODIFIED:20210829T165944Z
UID:19696-1630886400-1631318399@kerterre.org
SUMMARY:SUR LE SITE DES KERTERRES - SEPTEMBRE -BASE 1
DESCRIPTION:
URL:https://kerterre.org/stages/sur-le-site-des-kerterres-septembre/
LOCATION:Centre de Formation Kerterre\, Route de Lanvénael\, Plomeur\, Bretagne\, 29120\, France
END:VEVENT
END:VCALENDAR