BEGIN:VCALENDAR
VERSION:2.0
PRODID:-//KERTERRE - ECPv6.15.17.1//NONSGML v1.0//EN
CALSCALE:GREGORIAN
METHOD:PUBLISH
X-WR-CALNAME:KERTERRE
X-ORIGINAL-URL:https://kerterre.org
X-WR-CALDESC:Évènements pour KERTERRE
REFRESH-INTERVAL;VALUE=DURATION:PT1H
X-Robots-Tag:noindex
X-PUBLISHED-TTL:PT1H
BEGIN:VTIMEZONE
TZID:UTC
BEGIN:STANDARD
TZOFFSETFROM:+0000
TZOFFSETTO:+0000
TZNAME:UTC
DTSTART:20200101T000000
END:STANDARD
END:VTIMEZONE
BEGIN:VEVENT
DTSTART;VALUE=DATE:20210913
DTEND;VALUE=DATE:20210917
DTSTAMP:20260421T033540
CREATED:20210706T075436Z
LAST-MODIFIED:20210706T075436Z
UID:20319-1631491200-1631836799@kerterre.org
SUMMARY:UNE KERTERRE AU LAC DE LA GIMONE - BASE 2
DESCRIPTION:
URL:https://kerterre.org/stages/une-kerterre-au-lac-de-la-gimone-base-2/
LOCATION:La Gimone\, Saint Blancard\, 32140\, France
END:VEVENT
BEGIN:VEVENT
DTSTART;VALUE=DATE:20210913
DTEND;VALUE=DATE:20210917
DTSTAMP:20260421T033540
CREATED:20210910T200514Z
LAST-MODIFIED:20210910T200514Z
UID:20839-1631491200-1631836799@kerterre.org
SUMMARY:SUR LE SITE DES KERTERRES EN SEPTEMBRE - BASE 2
DESCRIPTION:
URL:https://kerterre.org/stages/sur-le-site-des-kerterres-en-septembre-base-2/
LOCATION:Centre de Formation Kerterre\, Route de Lanvénael\, Plomeur\, Bretagne\, 29120\, France
END:VEVENT
BEGIN:VEVENT
DTSTART;VALUE=DATE:20210913
DTEND;VALUE=DATE:20210918
DTSTAMP:20260421T033540
CREATED:20210225T152025Z
LAST-MODIFIED:20210901T152732Z
UID:18572-1631491200-1631923199@kerterre.org
SUMMARY:BASE 1 - UNE KERTERRE DANS LES CÔTES D'ARMOR
DESCRIPTION:
URL:https://kerterre.org/stages/base-1-une-kerterre-dans-les-cotes-darmor/
LOCATION:Plougrescant\, France
END:VEVENT
BEGIN:VEVENT
DTSTART;VALUE=DATE:20210913
DTEND;VALUE=DATE:20210918
DTSTAMP:20260421T033540
CREATED:20210809T143048Z
LAST-MODIFIED:20210809T143111Z
UID:20548-1631491200-1631923199@kerterre.org
SUMMARY:SCULPTURE ET CREATION SEPTEMBRE
DESCRIPTION:
URL:https://kerterre.org/stages/sculpture-et-creation-septembre/
LOCATION:Centre de Formation Kerterre\, Route de Lanvénael\, Plomeur\, Bretagne\, 29120\, France
END:VEVENT
BEGIN:VEVENT
DTSTART;VALUE=DATE:20210913
DTEND;VALUE=DATE:20211002
DTSTAMP:20260421T033540
CREATED:20210708T092245Z
LAST-MODIFIED:20210817T200351Z
UID:20334-1631491200-1633132799@kerterre.org
SUMMARY:FORMATION COMPLETE SEPTEMBRE 2021
DESCRIPTION:
URL:https://kerterre.org/stages/formation-complete-septembre-2021/
LOCATION:Centre de Formation Kerterre\, Route de Lanvénael\, Plomeur\, Bretagne\, 29120\, France
END:VEVENT
END:VCALENDAR