BEGIN:VCALENDAR
VERSION:2.0
PRODID:-//KERTERRE - ECPv6.15.17.1//NONSGML v1.0//EN
CALSCALE:GREGORIAN
METHOD:PUBLISH
X-WR-CALNAME:KERTERRE
X-ORIGINAL-URL:https://kerterre.org
X-WR-CALDESC:Évènements pour KERTERRE
REFRESH-INTERVAL;VALUE=DURATION:PT1H
X-Robots-Tag:noindex
X-PUBLISHED-TTL:PT1H
BEGIN:VTIMEZONE
TZID:UTC
BEGIN:STANDARD
TZOFFSETFROM:+0000
TZOFFSETTO:+0000
TZNAME:UTC
DTSTART:20210101T000000
END:STANDARD
END:VTIMEZONE
BEGIN:VEVENT
DTSTART;VALUE=DATE:20220425
DTEND;VALUE=DATE:20220430
DTSTAMP:20260420T121835
CREATED:20211130T191951Z
LAST-MODIFIED:20220216T105518Z
UID:21145-1650844800-1651276799@kerterre.org
SUMMARY:B3 SUR LE SITE DES KERTERRES - 25 au 29 avril 2022
DESCRIPTION:
URL:https://kerterre.org/stages/b3-sur-le-site-des-kerterres-25-au-29-avril-2022/
LOCATION:Centre de Formation Kerterre\, Route de Lanvénael\, Plomeur\, Bretagne\, 29120\, France
CATEGORIES:Stage Base 3
END:VEVENT
BEGIN:VEVENT
DTSTART;VALUE=DATE:20220425
DTEND;VALUE=DATE:20220430
DTSTAMP:20260420T121835
CREATED:20220111T090221Z
LAST-MODIFIED:20220118T134243Z
UID:21586-1650844800-1651276799@kerterre.org
SUMMARY:Stage - b1 - Une Kerterre à Terre de naissance - 25 au 29 avril 2022 - 1
DESCRIPTION:
URL:https://kerterre.org/stages/stage-b1-une-kerterre-pour-terre-de-naissance-25-au-29-avril-2022-1/
LOCATION:Chessy les prés\, 10130\, France
CATEGORIES:Stage Base 1
END:VEVENT
BEGIN:VEVENT
DTSTART;VALUE=DATE:20220425
DTEND;VALUE=DATE:20220430
DTSTAMP:20260420T121835
CREATED:20220316T095452Z
LAST-MODIFIED:20220316T095508Z
UID:22418-1650844800-1651276799@kerterre.org
SUMMARY:Stage - b1 - Une Kerterre à Terre de naissance - 25 au 29 avril 2022 - 2
DESCRIPTION:
URL:https://kerterre.org/stages/stage-b1-une-kerterre-a-terre-de-naissance-25-au-29-avril-2022-2/
LOCATION:Chessy les prés\, 10130\, France
END:VEVENT
END:VCALENDAR