BEGIN:VCALENDAR
VERSION:2.0
PRODID:-//KERTERRE - ECPv6.15.17.1//NONSGML v1.0//EN
CALSCALE:GREGORIAN
METHOD:PUBLISH
X-ORIGINAL-URL:https://kerterre.org
X-WR-CALDESC:Évènements pour KERTERRE
REFRESH-INTERVAL;VALUE=DURATION:PT1H
X-Robots-Tag:noindex
X-PUBLISHED-TTL:PT1H
BEGIN:VTIMEZONE
TZID:UTC
BEGIN:STANDARD
TZOFFSETFROM:+0000
TZOFFSETTO:+0000
TZNAME:UTC
DTSTART:20210101T000000
END:STANDARD
END:VTIMEZONE
BEGIN:VEVENT
DTSTART;VALUE=DATE:20220509
DTEND;VALUE=DATE:20220514
DTSTAMP:20260420T122827
CREATED:20211208T152728Z
LAST-MODIFIED:20220506T102301Z
UID:21281-1652054400-1652486399@kerterre.org
SUMMARY:Stage B1 - Une Kerterre à la grotte de Linod - 2022
DESCRIPTION:
URL:https://kerterre.org/stages/stage-b1-une-kerterre-a-la-grotte-de-linod-2022/
LOCATION:Valromey-sur-Séran\, 01260\, France
END:VEVENT
BEGIN:VEVENT
DTSTART;VALUE=DATE:20220509
DTEND;VALUE=DATE:20220514
DTSTAMP:20260420T122827
CREATED:20220105T142840Z
LAST-MODIFIED:20220506T085902Z
UID:21518-1652054400-1652486399@kerterre.org
SUMMARY:Stage - B1 - Une Kerterre à la Boutière - 2022
DESCRIPTION:
URL:https://kerterre.org/stages/stage-b1-une-kerterre-a-la-boutiere-2022/
LOCATION:La Chapelle sur Erdre\, 44240
END:VEVENT
BEGIN:VEVENT
DTSTART;VALUE=DATE:20220509
DTEND;VALUE=DATE:20220528
DTSTAMP:20260420T122827
CREATED:20211115T143425Z
LAST-MODIFIED:20220505T091942Z
UID:20901-1652054400-1653695999@kerterre.org
SUMMARY:Formation complète du 9 mai au 27 mai 2022
DESCRIPTION:
URL:https://kerterre.org/stages/formation-complete-9-mai-2022/
LOCATION:Centre de Formation Kerterre\, Route de Lanvénael\, Plomeur\, Bretagne\, 29120\, France
END:VEVENT
END:VCALENDAR