BEGIN:VCALENDAR
VERSION:2.0
PRODID:-//KERTERRE - ECPv6.15.17.1//NONSGML v1.0//EN
CALSCALE:GREGORIAN
METHOD:PUBLISH
X-ORIGINAL-URL:https://kerterre.org
X-WR-CALDESC:Évènements pour KERTERRE
REFRESH-INTERVAL;VALUE=DURATION:PT1H
X-Robots-Tag:noindex
X-PUBLISHED-TTL:PT1H
BEGIN:VTIMEZONE
TZID:UTC
BEGIN:STANDARD
TZOFFSETFROM:+0000
TZOFFSETTO:+0000
TZNAME:UTC
DTSTART:20210101T000000
END:STANDARD
END:VTIMEZONE
BEGIN:VEVENT
DTSTART;VALUE=DATE:20220509
DTEND;VALUE=DATE:20220528
DTSTAMP:20260420T122747
CREATED:20211115T143425Z
LAST-MODIFIED:20220505T091942Z
UID:20901-1652054400-1653695999@kerterre.org
SUMMARY:Formation complète du 9 mai au 27 mai 2022
DESCRIPTION:
URL:https://kerterre.org/stages/formation-complete-9-mai-2022/
LOCATION:Centre de Formation Kerterre\, Route de Lanvénael\, Plomeur\, Bretagne\, 29120\, France
END:VEVENT
BEGIN:VEVENT
DTSTART;VALUE=DATE:20220516
DTEND;VALUE=DATE:20220521
DTSTAMP:20260420T122747
CREATED:20220111T091025Z
LAST-MODIFIED:20220118T134100Z
UID:21592-1652659200-1653091199@kerterre.org
SUMMARY:Stage – b1 – Une Kerterre à Terre de naissance – 16 au 20 mai 2022 – 1
DESCRIPTION:
URL:https://kerterre.org/stages/stage-b1-une-kerterre-pour-terre-de-naissance-16-au-20-mai-2022-1/
LOCATION:Chessy les prés\, 10130\, France
END:VEVENT
BEGIN:VEVENT
DTSTART;VALUE=DATE:20220516
DTEND;VALUE=DATE:20220521
DTSTAMP:20260420T122747
CREATED:20220301T104203Z
LAST-MODIFIED:20220328T150437Z
UID:22204-1652659200-1653091199@kerterre.org
SUMMARY:Jardin Bonifiant 16 au 20 mai 2022
DESCRIPTION:
URL:https://kerterre.org/stages/jardin-bonifiant-16-au-20-mai-2022/
LOCATION:Centre de Formation Kerterre\, Route de Lanvénael\, Plomeur\, Bretagne\, 29120\, France
END:VEVENT
BEGIN:VEVENT
DTSTART;VALUE=DATE:20220516
DTEND;VALUE=DATE:20220521
DTSTAMP:20260420T122747
CREATED:20220316T095156Z
LAST-MODIFIED:20220316T095156Z
UID:22416-1652659200-1653091199@kerterre.org
SUMMARY:Stage – b1 – Une Kerterre à Terre de naissance – 16 au 20 mai 2022 – 2
DESCRIPTION:
URL:https://kerterre.org/stages/stage-b1-une-kerterre-a-terre-de-naissance-16-au-20-mai-2022-2/
LOCATION:Chessy les prés\, 10130\, France
END:VEVENT
END:VCALENDAR