BEGIN:VCALENDAR
VERSION:2.0
PRODID:-//KERTERRE - ECPv6.15.17.1//NONSGML v1.0//EN
CALSCALE:GREGORIAN
METHOD:PUBLISH
X-ORIGINAL-URL:https://kerterre.org
X-WR-CALDESC:Évènements pour KERTERRE
REFRESH-INTERVAL;VALUE=DURATION:PT1H
X-Robots-Tag:noindex
X-PUBLISHED-TTL:PT1H
BEGIN:VTIMEZONE
TZID:UTC
BEGIN:STANDARD
TZOFFSETFROM:+0000
TZOFFSETTO:+0000
TZNAME:UTC
DTSTART:20210101T000000
END:STANDARD
END:VTIMEZONE
BEGIN:VEVENT
DTSTART;VALUE=DATE:20220620
DTEND;VALUE=DATE:20220625
DTSTAMP:20260420T122656
CREATED:20211130T193612Z
LAST-MODIFIED:20220617T091700Z
UID:21174-1655683200-1656115199@kerterre.org
SUMMARY:Stage B1 - Une Kerterre à Pas de côté - 2022
DESCRIPTION:
URL:https://kerterre.org/stages/stage-b1-une-kerterre-a-pas-de-cote-2022/
LOCATION:Puy Saint Eusèbe\, 05200\, France
END:VEVENT
BEGIN:VEVENT
DTSTART;VALUE=DATE:20220620
DTEND;VALUE=DATE:20220625
DTSTAMP:20260420T122656
CREATED:20220111T092408Z
LAST-MODIFIED:20220111T184906Z
UID:21594-1655683200-1656115199@kerterre.org
SUMMARY:Stage – b2 – Une Kerterre à Terre de naissance – 20 au 24 juin 2022 – 1
DESCRIPTION:
URL:https://kerterre.org/stages/stage-b2-une-kerterre-pour-terre-de-naissance-20-au-24-juin-2022-1/
LOCATION:Chessy les prés\, 10130\, France
END:VEVENT
BEGIN:VEVENT
DTSTART;VALUE=DATE:20220620
DTEND;VALUE=DATE:20220709
DTSTAMP:20260420T122656
CREATED:20211115T142447Z
LAST-MODIFIED:20220616T185420Z
UID:20906-1655683200-1657324799@kerterre.org
SUMMARY:Formation complète du 20 juin au 8 juillet 2022
DESCRIPTION:
URL:https://kerterre.org/stages/formation-complete-du-20-juin-2022/
LOCATION:Centre de Formation Kerterre\, Route de Lanvénael\, Plomeur\, Bretagne\, 29120\, France
END:VEVENT
BEGIN:VEVENT
DTSTART;VALUE=DATE:20220620
DTEND;VALUE=DATE:20220709
DTSTAMP:20260420T122656
CREATED:20220329T090905Z
LAST-MODIFIED:20220329T090905Z
UID:22562-1655683200-1657324799@kerterre.org
SUMMARY:Défi formation complète : Kerterre de grande taille du 20 juin au 8 juillet 2022
DESCRIPTION:
URL:https://kerterre.org/stages/defi-formation-complete-kerterre-de-grande-taille-du-20-juin-au-8-juillet-2022/
LOCATION:Loqueffret\, 29141
END:VEVENT
END:VCALENDAR