BEGIN:VCALENDAR
VERSION:2.0
PRODID:-//KERTERRE - ECPv6.15.17.1//NONSGML v1.0//EN
CALSCALE:GREGORIAN
METHOD:PUBLISH
X-WR-CALNAME:KERTERRE
X-ORIGINAL-URL:https://kerterre.org
X-WR-CALDESC:Évènements pour KERTERRE
REFRESH-INTERVAL;VALUE=DURATION:PT1H
X-Robots-Tag:noindex
X-PUBLISHED-TTL:PT1H
BEGIN:VTIMEZONE
TZID:UTC
BEGIN:STANDARD
TZOFFSETFROM:+0000
TZOFFSETTO:+0000
TZNAME:UTC
DTSTART:20210101T000000
END:STANDARD
END:VTIMEZONE
BEGIN:VEVENT
DTSTART;VALUE=DATE:20220620
DTEND;VALUE=DATE:20220709
DTSTAMP:20260420T092230
CREATED:20211115T142447Z
LAST-MODIFIED:20220616T185420Z
UID:20906-1655683200-1657324799@kerterre.org
SUMMARY:Formation complète du 20 juin au 8 juillet 2022
DESCRIPTION:
URL:https://kerterre.org/stages/formation-complete-du-20-juin-2022/
LOCATION:Centre de Formation Kerterre\, Route de Lanvénael\, Plomeur\, Bretagne\, 29120\, France
END:VEVENT
BEGIN:VEVENT
DTSTART;VALUE=DATE:20220620
DTEND;VALUE=DATE:20220709
DTSTAMP:20260420T092230
CREATED:20220329T090905Z
LAST-MODIFIED:20220329T090905Z
UID:22562-1655683200-1657324799@kerterre.org
SUMMARY:Défi formation complète : Kerterre de grande taille du 20 juin au 8 juillet 2022
DESCRIPTION:
URL:https://kerterre.org/stages/defi-formation-complete-kerterre-de-grande-taille-du-20-juin-au-8-juillet-2022/
LOCATION:Loqueffret\, 29141
END:VEVENT
BEGIN:VEVENT
DTSTART;VALUE=DATE:20220704
DTEND;VALUE=DATE:20220709
DTSTAMP:20260420T092230
CREATED:20220119T141137Z
LAST-MODIFIED:20220119T141208Z
UID:21676-1656892800-1657324799@kerterre.org
SUMMARY:Stage B1 – Une Kerterre dans les Vosges du 4 au 8 juillet 2022
DESCRIPTION:
URL:https://kerterre.org/stages/stage-b1-une-kerterre-dans-les-vosges-du-4-au-8-juillet-2022/
LOCATION:La petite Raon\, 88210\, France
CATEGORIES:Stage Base 1
END:VEVENT
BEGIN:VEVENT
DTSTART;VALUE=DATE:20220704
DTEND;VALUE=DATE:20220709
DTSTAMP:20260420T092230
CREATED:20220209T160346Z
LAST-MODIFIED:20220209T160608Z
UID:21933-1656892800-1657324799@kerterre.org
SUMMARY:Stage B2 - Une kerterre au pied de la montagne noire - 2022
DESCRIPTION:
URL:https://kerterre.org/stages/stage-b2-une-kerterre-au-pied-de-la-montagne-noire-2022/
LOCATION:Dourgne\, 81110\, France
CATEGORIES:Stage Base 2
END:VEVENT
BEGIN:VEVENT
DTSTART;VALUE=DATE:20220704
DTEND;VALUE=DATE:20220709
DTSTAMP:20260420T092230
CREATED:20220310T084517Z
LAST-MODIFIED:20220506T080038Z
UID:22306-1656892800-1657324799@kerterre.org
SUMMARY:Stage B2 - Une Kerterre à L'Oasis de la Nourrice  du  4 au 8 juillet 2022
DESCRIPTION:
URL:https://kerterre.org/stages/stage-b2-une-kerterre-a-loasis-de-la-nourrice-du-4-au-8-juillet-2022/
LOCATION:Fuveau\, France
END:VEVENT
BEGIN:VEVENT
DTSTART;VALUE=DATE:20220704
DTEND;VALUE=DATE:20220709
DTSTAMP:20260420T092230
CREATED:20220524T100517Z
LAST-MODIFIED:20220524T100725Z
UID:23174-1656892800-1657324799@kerterre.org
SUMMARY:Stage B2 - Une Kerterre en Corrèze
DESCRIPTION:
URL:https://kerterre.org/stages/stage-b2-une-kerterre-en-correze/
LOCATION:Lacelle\, 19095\, France
CATEGORIES:Stage Base 2
END:VEVENT
END:VCALENDAR