BEGIN:VCALENDAR
VERSION:2.0
PRODID:-//KERTERRE - ECPv6.15.17.1//NONSGML v1.0//EN
CALSCALE:GREGORIAN
METHOD:PUBLISH
X-WR-CALNAME:KERTERRE
X-ORIGINAL-URL:https://kerterre.org
X-WR-CALDESC:Évènements pour KERTERRE
REFRESH-INTERVAL;VALUE=DURATION:PT1H
X-Robots-Tag:noindex
X-PUBLISHED-TTL:PT1H
BEGIN:VTIMEZONE
TZID:UTC
BEGIN:STANDARD
TZOFFSETFROM:+0000
TZOFFSETTO:+0000
TZNAME:UTC
DTSTART:20210101T000000
END:STANDARD
END:VTIMEZONE
BEGIN:VEVENT
DTSTART;VALUE=DATE:20220711
DTEND;VALUE=DATE:20220730
DTSTAMP:20260420T092322
CREATED:20211115T144642Z
LAST-MODIFIED:20220617T071557Z
UID:20914-1657497600-1659139199@kerterre.org
SUMMARY:Formation complète du 11 juillet au 29 juillet 2022
DESCRIPTION:
URL:https://kerterre.org/stages/formation-complete-du-11-juillet-au-29-juillet-2022/
LOCATION:Centre de Formation Kerterre\, Route de Lanvénael\, Plomeur\, Bretagne\, 29120\, France
END:VEVENT
BEGIN:VEVENT
DTSTART;VALUE=DATE:20220718
DTEND;VALUE=DATE:20220723
DTSTAMP:20260420T092322
CREATED:20220111T093331Z
LAST-MODIFIED:20220628T193312Z
UID:21598-1658102400-1658534399@kerterre.org
SUMMARY:Inscription stage B2 Une Kerterre à Terre de Naissance du 18 au 22 juillet 2022 - 1
DESCRIPTION:
URL:https://kerterre.org/stages/inscription-stage-b2-une-kerterre-pour-terre-de-naissance-du-18-au-22-juillet-2022-1/
LOCATION:Chessy les prés\, 10130\, France
CATEGORIES:Stage Base 2
END:VEVENT
BEGIN:VEVENT
DTSTART;TZID=UTC:20220720T140000
DTEND;TZID=UTC:20220720T160000
DTSTAMP:20260420T092322
CREATED:20220609T093800Z
LAST-MODIFIED:20220609T131709Z
UID:23301-1658325600-1658332800@kerterre.org
SUMMARY:Visite privée du 20 juillet
DESCRIPTION:
URL:https://kerterre.org/stages/visite-privee-du-20-juillet/
LOCATION:Plomeur\, Plomeur\, 29120\, France
CATEGORIES:Visites spéciales
END:VEVENT
END:VCALENDAR