BEGIN:VCALENDAR
VERSION:2.0
PRODID:-//KERTERRE - ECPv6.15.17.1//NONSGML v1.0//EN
CALSCALE:GREGORIAN
METHOD:PUBLISH
X-WR-CALNAME:KERTERRE
X-ORIGINAL-URL:https://kerterre.org
X-WR-CALDESC:Évènements pour KERTERRE
REFRESH-INTERVAL;VALUE=DURATION:PT1H
X-Robots-Tag:noindex
X-PUBLISHED-TTL:PT1H
BEGIN:VTIMEZONE
TZID:UTC
BEGIN:STANDARD
TZOFFSETFROM:+0000
TZOFFSETTO:+0000
TZNAME:UTC
DTSTART:20210101T000000
END:STANDARD
END:VTIMEZONE
BEGIN:VEVENT
DTSTART;VALUE=DATE:20220711
DTEND;VALUE=DATE:20220730
DTSTAMP:20260420T092453
CREATED:20211115T144642Z
LAST-MODIFIED:20220617T071557Z
UID:20914-1657497600-1659139199@kerterre.org
SUMMARY:Formation complète du 11 juillet au 29 juillet 2022
DESCRIPTION:
URL:https://kerterre.org/stages/formation-complete-du-11-juillet-au-29-juillet-2022/
LOCATION:Centre de Formation Kerterre\, Route de Lanvénael\, Plomeur\, Bretagne\, 29120\, France
END:VEVENT
BEGIN:VEVENT
DTSTART;VALUE=DATE:20220723
DTEND;VALUE=DATE:20220728
DTSTAMP:20260420T092453
CREATED:20220104T120108Z
LAST-MODIFIED:20220526T085420Z
UID:21495-1658534400-1658966399@kerterre.org
SUMMARY:Stage - B1- Une kerterre à la Baraka Rêves - 2022
DESCRIPTION:
URL:https://kerterre.org/stages/stage-b1-une-kerterre-a-la-baraka-reve-2022/
LOCATION:Saint Etienne du Bois\, 85670
CATEGORIES:Stage Base 1
END:VEVENT
BEGIN:VEVENT
DTSTART;VALUE=DATE:20220727
DTEND;VALUE=DATE:20220801
DTSTAMP:20260420T092453
CREATED:20211221T123212Z
LAST-MODIFIED:20220712T114043Z
UID:21401-1658880000-1659311999@kerterre.org
SUMMARY:Stage B1 - Une Kerterre au p'tit jardin
DESCRIPTION:
URL:https://kerterre.org/stages/stage-b1-une-kerterre-au-ptit-jardin/
LOCATION:Vaumas\, 03220\, France
END:VEVENT
BEGIN:VEVENT
DTSTART;TZID=UTC:20220727T140000
DTEND;TZID=UTC:20220727T160000
DTSTAMP:20260420T092453
CREATED:20220609T124513Z
LAST-MODIFIED:20220609T125811Z
UID:23309-1658930400-1658937600@kerterre.org
SUMMARY:Visite privée du 27 juillet
DESCRIPTION:
URL:https://kerterre.org/stages/visite-privee-du-27-juillet/
LOCATION:Plomeur\, Plomeur\, 29120\, France
CATEGORIES:Visites spéciales
END:VEVENT
END:VCALENDAR