BEGIN:VCALENDAR
VERSION:2.0
PRODID:-//KERTERRE - ECPv6.15.17.1//NONSGML v1.0//EN
CALSCALE:GREGORIAN
METHOD:PUBLISH
X-WR-CALNAME:KERTERRE
X-ORIGINAL-URL:https://kerterre.org
X-WR-CALDESC:Évènements pour KERTERRE
REFRESH-INTERVAL;VALUE=DURATION:PT1H
X-Robots-Tag:noindex
X-PUBLISHED-TTL:PT1H
BEGIN:VTIMEZONE
TZID:UTC
BEGIN:STANDARD
TZOFFSETFROM:+0000
TZOFFSETTO:+0000
TZNAME:UTC
DTSTART:20210101T000000
END:STANDARD
END:VTIMEZONE
BEGIN:VEVENT
DTSTART;VALUE=DATE:20220801
DTEND;VALUE=DATE:20220804
DTSTAMP:20260420T074903
CREATED:20220509T102423Z
LAST-MODIFIED:20220824T081830Z
UID:23034-1659312000-1659571199@kerterre.org
SUMMARY:Stage B5 - Ecologie de la relation en août 2022
DESCRIPTION:
URL:https://kerterre.org/stages/stage-b5-ecologie-relationnelle-en-aout-2022/
LOCATION:Centre de Formation Kerterre\, Route de Lanvénael\, Plomeur\, Bretagne\, 29120\, France
CATEGORIES:B5 aout
END:VEVENT
BEGIN:VEVENT
DTSTART;VALUE=DATE:20220801
DTEND;VALUE=DATE:20220806
DTSTAMP:20260420T074903
CREATED:20220111T101738Z
LAST-MODIFIED:20220111T185448Z
UID:21602-1659312000-1659743999@kerterre.org
SUMMARY:Inscription stage B3 Sculpture et création à Terre de Naissance du 1er au 5 aout 2022
DESCRIPTION:
URL:https://kerterre.org/stages/inscription-stage-b3-une-kerterre-pour-terre-de-naissance-du-1er-au-5-aout-2022/
LOCATION:Chessy les prés\, 10130\, France
CATEGORIES:Stage Base 3
END:VEVENT
BEGIN:VEVENT
DTSTART;VALUE=DATE:20220801
DTEND;VALUE=DATE:20220806
DTSTAMP:20260420T074903
CREATED:20220308T133417Z
LAST-MODIFIED:20220308T133417Z
UID:22285-1659312000-1659743999@kerterre.org
SUMMARY:Stage B1 - Une kerterre en Provence verte - du 1er au 5 août 2022
DESCRIPTION:
URL:https://kerterre.org/stages/stage-b1-une-kerterre-en-provence-verte-du-1er-au-5-aout-2022/
LOCATION:Aups\, 83630\, France
END:VEVENT
BEGIN:VEVENT
DTSTART;VALUE=DATE:20220801
DTEND;VALUE=DATE:20220806
DTSTAMP:20260420T074903
CREATED:20220616T085541Z
LAST-MODIFIED:20220616T085610Z
UID:23384-1659312000-1659743999@kerterre.org
SUMMARY:Stage B2 - Une kerterre à Terre de Naissance du 1er au 5 août 2022
DESCRIPTION:
URL:https://kerterre.org/stages/stage-b2-une-kerterre-a-terre-de-naissance-du-1er-au-5-aout-2022/
LOCATION:Chessy les prés\, 10130\, France
CATEGORIES:Stage Base 2
END:VEVENT
BEGIN:VEVENT
DTSTART;VALUE=DATE:20220801
DTEND;VALUE=DATE:20220820
DTSTAMP:20260420T074903
CREATED:20211115T144515Z
LAST-MODIFIED:20220713T124423Z
UID:20912-1659312000-1660953599@kerterre.org
SUMMARY:Formation complète du 1er août au 19 août 2022
DESCRIPTION:
URL:https://kerterre.org/stages/formation-complete-du-1er-aout-au-19-aout-2022/
LOCATION:Centre de Formation Kerterre\, Route de Lanvénael\, Plomeur\, Bretagne\, 29120\, France
END:VEVENT
BEGIN:VEVENT
DTSTART;TZID=UTC:20220803T140000
DTEND;TZID=UTC:20220803T160000
DTSTAMP:20260420T074903
CREATED:20220609T124958Z
LAST-MODIFIED:20220609T124958Z
UID:23315-1659535200-1659542400@kerterre.org
SUMMARY:Visite privée du 3 août
DESCRIPTION:
URL:https://kerterre.org/stages/visite-privee-du-3-aout/
LOCATION:Plomeur\, Plomeur\, 29120\, France
CATEGORIES:Visites spéciales
END:VEVENT
END:VCALENDAR