BEGIN:VCALENDAR
VERSION:2.0
PRODID:-//KERTERRE - ECPv6.15.17.1//NONSGML v1.0//EN
CALSCALE:GREGORIAN
METHOD:PUBLISH
X-WR-CALNAME:KERTERRE
X-ORIGINAL-URL:https://kerterre.org
X-WR-CALDESC:Évènements pour KERTERRE
REFRESH-INTERVAL;VALUE=DURATION:PT1H
X-Robots-Tag:noindex
X-PUBLISHED-TTL:PT1H
BEGIN:VTIMEZONE
TZID:UTC
BEGIN:STANDARD
TZOFFSETFROM:+0000
TZOFFSETTO:+0000
TZNAME:UTC
DTSTART:20210101T000000
END:STANDARD
END:VTIMEZONE
BEGIN:VEVENT
DTSTART;VALUE=DATE:20220822
DTEND;VALUE=DATE:20220910
DTSTAMP:20260420T060228
CREATED:20211115T144317Z
LAST-MODIFIED:20220505T175035Z
UID:20910-1661126400-1662767999@kerterre.org
SUMMARY:Formation complète du 22 août au 9 septembre 2022
DESCRIPTION:
URL:https://kerterre.org/stages/formation-complete-du-22-aout-au-9-septembre-2022/
LOCATION:Centre de Formation Kerterre\, Route de Lanvénael\, Plomeur\, Bretagne\, 29120\, France
END:VEVENT
END:VCALENDAR