BEGIN:VCALENDAR
VERSION:2.0
PRODID:-//KERTERRE - ECPv6.15.17.1//NONSGML v1.0//EN
CALSCALE:GREGORIAN
METHOD:PUBLISH
X-ORIGINAL-URL:https://kerterre.org
X-WR-CALDESC:Évènements pour KERTERRE
REFRESH-INTERVAL;VALUE=DURATION:PT1H
X-Robots-Tag:noindex
X-PUBLISHED-TTL:PT1H
BEGIN:VTIMEZONE
TZID:UTC
BEGIN:STANDARD
TZOFFSETFROM:+0000
TZOFFSETTO:+0000
TZNAME:UTC
DTSTART:20210101T000000
END:STANDARD
END:VTIMEZONE
BEGIN:VEVENT
DTSTART;VALUE=DATE:20220912
DTEND;VALUE=DATE:20220917
DTSTAMP:20260420T060629
CREATED:20220408T084634Z
LAST-MODIFIED:20220629T094540Z
UID:22697-1662940800-1663372799@kerterre.org
SUMMARY:Stage B1 - Une Kerterre dans le Calvados - 2022
DESCRIPTION:
URL:https://kerterre.org/stages/stage-b1-une-kerterre-dans-le-calvados-2022/
LOCATION:Saint Pierre de Mailloc\, 14290\, France
CATEGORIES:Stage Base 1
END:VEVENT
BEGIN:VEVENT
DTSTART;VALUE=DATE:20220912
DTEND;VALUE=DATE:20220917
DTSTAMP:20260420T060629
CREATED:20220419T135519Z
LAST-MODIFIED:20220419T135557Z
UID:22806-1662940800-1663372799@kerterre.org
SUMMARY:Stage B1 Une Kerterre à Ecoterra - 2022
DESCRIPTION:
URL:https://kerterre.org/stages/stage-b1-une-kerterre-a-ecoterra-2022/
LOCATION:Bussières\, 42510\, France
END:VEVENT
BEGIN:VEVENT
DTSTART;VALUE=DATE:20220912
DTEND;VALUE=DATE:20221001
DTSTAMP:20260420T060629
CREATED:20220704T114451Z
LAST-MODIFIED:20220704T114635Z
UID:23601-1662940800-1664582399@kerterre.org
SUMMARY:Formation complète du 12 au 30 septembre 2022
DESCRIPTION:cri
URL:https://kerterre.org/stages/formation-complete-du-12-au-30-septembre-2022/
LOCATION:Centre de Formation Kerterre\, Route de Lanvénael\, Plomeur\, Bretagne\, 29120\, France
CATEGORIES:Formation longue
END:VEVENT
END:VCALENDAR