BEGIN:VCALENDAR
VERSION:2.0
PRODID:-//KERTERRE - ECPv6.15.17.1//NONSGML v1.0//EN
CALSCALE:GREGORIAN
METHOD:PUBLISH
X-ORIGINAL-URL:https://kerterre.org
X-WR-CALDESC:Évènements pour KERTERRE
REFRESH-INTERVAL;VALUE=DURATION:PT1H
X-Robots-Tag:noindex
X-PUBLISHED-TTL:PT1H
BEGIN:VTIMEZONE
TZID:UTC
BEGIN:STANDARD
TZOFFSETFROM:+0000
TZOFFSETTO:+0000
TZNAME:UTC
DTSTART:20210101T000000
END:STANDARD
END:VTIMEZONE
BEGIN:VEVENT
DTSTART;VALUE=DATE:20220912
DTEND;VALUE=DATE:20221001
DTSTAMP:20260420T075517
CREATED:20220704T114451Z
LAST-MODIFIED:20220704T114635Z
UID:23601-1662940800-1664582399@kerterre.org
SUMMARY:Formation complète du 12 au 30 septembre 2022
DESCRIPTION:cri
URL:https://kerterre.org/stages/formation-complete-du-12-au-30-septembre-2022/
LOCATION:Centre de Formation Kerterre\, Route de Lanvénael\, Plomeur\, Bretagne\, 29120\, France
CATEGORIES:Formation longue
END:VEVENT
BEGIN:VEVENT
DTSTART;VALUE=DATE:20220919
DTEND;VALUE=DATE:20220924
DTSTAMP:20260420T075517
CREATED:20220216T102230Z
LAST-MODIFIED:20220216T102650Z
UID:22001-1663545600-1663977599@kerterre.org
SUMMARY:Stage B3 Sur le site des Kerterres – 19 au 23 septembre 2022
DESCRIPTION:
URL:https://kerterre.org/stages/stage-b3-sur-le-site-des-kerterres-19-au-23-septembre-2022/
LOCATION:Centre de Formation Kerterre\, Route de Lanvénael\, Plomeur\, Bretagne\, 29120\, France
CATEGORIES:Stage Base 3
END:VEVENT
BEGIN:VEVENT
DTSTART;VALUE=DATE:20220919
DTEND;VALUE=DATE:20220924
DTSTAMP:20260420T075517
CREATED:20220223T094124Z
LAST-MODIFIED:20220908T132250Z
UID:22120-1663545600-1663977599@kerterre.org
SUMMARY:Stage B1 Une Kerterre dans les bois du 19 au 23 septembre 2022
DESCRIPTION:
URL:https://kerterre.org/stages/stage-b1-une-kerterre-dans-les-bois-du-19-au-23-septembre-2022/
LOCATION:Saint Pierre de Cole\, 24800\, France
END:VEVENT
END:VCALENDAR