BEGIN:VCALENDAR
VERSION:2.0
PRODID:-//KERTERRE - ECPv6.15.17.1//NONSGML v1.0//EN
CALSCALE:GREGORIAN
METHOD:PUBLISH
X-WR-CALNAME:KERTERRE
X-ORIGINAL-URL:https://kerterre.org
X-WR-CALDESC:Évènements pour KERTERRE
REFRESH-INTERVAL;VALUE=DURATION:PT1H
X-Robots-Tag:noindex
X-PUBLISHED-TTL:PT1H
BEGIN:VTIMEZONE
TZID:UTC
BEGIN:STANDARD
TZOFFSETFROM:+0000
TZOFFSETTO:+0000
TZNAME:UTC
DTSTART:20220101T000000
END:STANDARD
END:VTIMEZONE
BEGIN:VEVENT
DTSTART;VALUE=DATE:20230217
DTEND;VALUE=DATE:20230220
DTSTAMP:20260419T205823
CREATED:20221220T084054Z
LAST-MODIFIED:20221220T084054Z
UID:24461-1676592000-1676851199@kerterre.org
SUMMARY:Stage Construction et sculpture d'une cheminée - du 17 au 19 février 2023
DESCRIPTION:
URL:https://kerterre.org/stages/stage-construction-et-sculpture-dune-cheminee-du-17-au-19-fevrier-2023/
LOCATION:A Plomeur\, Plomeur\, France
END:VEVENT
END:VCALENDAR