BEGIN:VCALENDAR
VERSION:2.0
PRODID:-//KERTERRE - ECPv6.15.17.1//NONSGML v1.0//EN
CALSCALE:GREGORIAN
METHOD:PUBLISH
X-WR-CALNAME:KERTERRE
X-ORIGINAL-URL:https://kerterre.org
X-WR-CALDESC:Évènements pour KERTERRE
REFRESH-INTERVAL;VALUE=DURATION:PT1H
X-Robots-Tag:noindex
X-PUBLISHED-TTL:PT1H
BEGIN:VTIMEZONE
TZID:UTC
BEGIN:STANDARD
TZOFFSETFROM:+0000
TZOFFSETTO:+0000
TZNAME:UTC
DTSTART:20220101T000000
END:STANDARD
END:VTIMEZONE
BEGIN:VEVENT
DTSTART;VALUE=DATE:20230424
DTEND;VALUE=DATE:20230429
DTSTAMP:20260419T190042
CREATED:20220920T090417Z
LAST-MODIFIED:20220920T090431Z
UID:24002-1682294400-1682726399@kerterre.org
SUMMARY:Stage B3 - Sculpture - 24 au 28 avril 2023 - Plomeur
DESCRIPTION:
URL:https://kerterre.org/stages/stage-b3-sculpture-24-au-28-avril-2023-plomeur/
LOCATION:Centre de Formation Kerterre\, Route de Lanvénael\, Plomeur\, Bretagne\, 29120\, France
END:VEVENT
END:VCALENDAR