BEGIN:VCALENDAR
VERSION:2.0
PRODID:-//KERTERRE - ECPv6.15.17.1//NONSGML v1.0//EN
CALSCALE:GREGORIAN
METHOD:PUBLISH
X-WR-CALNAME:KERTERRE
X-ORIGINAL-URL:https://kerterre.org
X-WR-CALDESC:Évènements pour KERTERRE
REFRESH-INTERVAL;VALUE=DURATION:PT1H
X-Robots-Tag:noindex
X-PUBLISHED-TTL:PT1H
BEGIN:VTIMEZONE
TZID:UTC
BEGIN:STANDARD
TZOFFSETFROM:+0000
TZOFFSETTO:+0000
TZNAME:UTC
DTSTART:20220101T000000
END:STANDARD
END:VTIMEZONE
BEGIN:VEVENT
DTSTART;VALUE=DATE:20230501
DTEND;VALUE=DATE:20230520
DTSTAMP:20260419T152704
CREATED:20220920T100857Z
LAST-MODIFIED:20230429T133812Z
UID:24023-1682899200-1684540799@kerterre.org
SUMMARY:Formation complète du 1er mai au 19 mai 2023
DESCRIPTION:
URL:https://kerterre.org/stages/formation-complete-du-1er-mai-au-19-mai-2023/
LOCATION:Centre de Formation Kerterre\, Route de Lanvénael\, Plomeur\, Bretagne\, 29120\, France
END:VEVENT
BEGIN:VEVENT
DTSTART;VALUE=DATE:20230505
DTEND;VALUE=DATE:20230510
DTSTAMP:20260419T152704
CREATED:20220920T092425Z
LAST-MODIFIED:20230429T133916Z
UID:24017-1683244800-1683676799@kerterre.org
SUMMARY:Stage B2 - Enduits - 5 au 9 mai 2023 - Plomeur
DESCRIPTION:
URL:https://kerterre.org/stages/stage-b2-enduits-5-au-9-mai-2023-plomeur/
LOCATION:Centre de Formation Kerterre\, Route de Lanvénael\, Plomeur\, Bretagne\, 29120\, France
END:VEVENT
END:VCALENDAR