BEGIN:VCALENDAR
VERSION:2.0
PRODID:-//KERTERRE - ECPv6.15.17.1//NONSGML v1.0//EN
CALSCALE:GREGORIAN
METHOD:PUBLISH
X-WR-CALNAME:KERTERRE
X-ORIGINAL-URL:https://kerterre.org
X-WR-CALDESC:Évènements pour KERTERRE
REFRESH-INTERVAL;VALUE=DURATION:PT1H
X-Robots-Tag:noindex
X-PUBLISHED-TTL:PT1H
BEGIN:VTIMEZONE
TZID:UTC
BEGIN:STANDARD
TZOFFSETFROM:+0000
TZOFFSETTO:+0000
TZNAME:UTC
DTSTART:20200101T000000
END:STANDARD
END:VTIMEZONE
BEGIN:VEVENT
DTSTART;VALUE=DATE:20210412
DTEND;VALUE=DATE:20210415
DTSTAMP:20260421T091221
CREATED:20210201T154507Z
LAST-MODIFIED:20210201T154507Z
UID:18092-1618185600-1618444799@kerterre.org
SUMMARY:Base 3 - On continue l'aventure avec sculpture et création
DESCRIPTION:
URL:https://kerterre.org/stages/base-3-on-continue-laventure-avec-sculpture-et-creation/
LOCATION:Centre de Formation Kerterre\, Route de Lanvénael\, Plomeur\, Bretagne\, 29120\, France
CATEGORIES:Formation courte
END:VEVENT
BEGIN:VEVENT
DTSTART;VALUE=DATE:20210419
DTEND;VALUE=DATE:20210424
DTSTAMP:20260421T091221
CREATED:20201202T133148Z
LAST-MODIFIED:20210407T121959Z
UID:17072-1618790400-1619222399@kerterre.org
SUMMARY:UNE KERTERRE À ECOLAND
DESCRIPTION:
URL:https://kerterre.org/stages/une-kerterre-a-ecoland/
LOCATION:Ecoland\, Arras\, Pas-de-Calais\, France
CATEGORIES:Formation courte,Stage Base 1
END:VEVENT
BEGIN:VEVENT
DTSTART;VALUE=DATE:20210426
DTEND;VALUE=DATE:20210501
DTSTAMP:20260421T091221
CREATED:20201229T091647Z
LAST-MODIFIED:20210204T154635Z
UID:17450-1619395200-1619827199@kerterre.org
SUMMARY:UNE KERTERRE A CAPBRETON - BASE 1
DESCRIPTION:
URL:https://kerterre.org/stages/une-kerterre-a-capbreton-1-2/
LOCATION:Dans les Landes chez Sabine\, Capbreton\, Nouvelle-Aquitaine\, 40130\, France
CATEGORIES:Formation courte,Stage Base 1
END:VEVENT
END:VCALENDAR