BEGIN:VCALENDAR
VERSION:2.0
PRODID:-//KERTERRE - ECPv6.15.17.1//NONSGML v1.0//EN
CALSCALE:GREGORIAN
METHOD:PUBLISH
X-WR-CALNAME:KERTERRE
X-ORIGINAL-URL:https://kerterre.org
X-WR-CALDESC:Évènements pour KERTERRE
REFRESH-INTERVAL;VALUE=DURATION:PT1H
X-Robots-Tag:noindex
X-PUBLISHED-TTL:PT1H
BEGIN:VTIMEZONE
TZID:UTC
BEGIN:STANDARD
TZOFFSETFROM:+0000
TZOFFSETTO:+0000
TZNAME:UTC
DTSTART:20200101T000000
END:STANDARD
END:VTIMEZONE
BEGIN:VEVENT
DTSTART;VALUE=DATE:20210503
DTEND;VALUE=DATE:20210508
DTSTAMP:20260421T072006
CREATED:20201203T092556Z
LAST-MODIFIED:20210210T153121Z
UID:17096-1620000000-1620431999@kerterre.org
SUMMARY:MARTINE CONSTRUIT SA KERTERRE DANS LES VOSGES
DESCRIPTION:
URL:https://kerterre.org/stages/martine-construit-sa-kerterre-dans-les-vosges/
LOCATION:Chez Martine\, dans les Vosges\, Saint Michel sur Meurthe\, Vosges\, 88470\, France
CATEGORIES:Formation courte,Stage Base 1
END:VEVENT
BEGIN:VEVENT
DTSTART;VALUE=DATE:20210503
DTEND;VALUE=DATE:20210508
DTSTAMP:20260421T072006
CREATED:20201217T123906Z
LAST-MODIFIED:20210428T082539Z
UID:17402-1620000000-1620431999@kerterre.org
SUMMARY:UNE KERTERRE DANS LA DROME - BASE 1
DESCRIPTION:
URL:https://kerterre.org/stages/une-kerterre-dans-la-drome-base-1/
LOCATION:Oasis Alegria (Drôme)\, Allex\, Drôme / Auvergne Rhône-Alpes\, 26400\, France
CATEGORIES:Formation courte,Stage Base 1
END:VEVENT
BEGIN:VEVENT
DTSTART;VALUE=DATE:20210510
DTEND;VALUE=DATE:20210515
DTSTAMP:20260421T072006
CREATED:20201231T083257Z
LAST-MODIFIED:20210504T124335Z
UID:17517-1620604800-1621036799@kerterre.org
SUMMARY:UNE KERTERRE A COGNAC ( avec modération bien sûr)
DESCRIPTION:
URL:https://kerterre.org/stages/une-kerterre-a-cognac/
LOCATION:Chez Nelly\, Cognac\, Charente\, 16100\, France
CATEGORIES:Formation courte,Stage Base 1
END:VEVENT
BEGIN:VEVENT
DTSTART;VALUE=DATE:20210517
DTEND;VALUE=DATE:20210522
DTSTAMP:20260421T072006
CREATED:20201203T092556Z
LAST-MODIFIED:20210512T142145Z
UID:17098-1621209600-1621641599@kerterre.org
SUMMARY:UNE KERTERRE EN AVEYRON
DESCRIPTION:
URL:https://kerterre.org/stages/une-kerterre-en-aveyron/
LOCATION:Grandval\, Espalion\, Occitanie\, 12500\, France
CATEGORIES:Formation courte,Stage Base 1
END:VEVENT
BEGIN:VEVENT
DTSTART;VALUE=DATE:20210517
DTEND;VALUE=DATE:20210605
DTSTAMP:20260421T072006
CREATED:20201204T162333Z
LAST-MODIFIED:20210429T153000Z
UID:17204-1621209600-1622851199@kerterre.org
SUMMARY:FORMATION COMPLETE MAI 2021
DESCRIPTION:
URL:https://kerterre.org/stages/formation-complete-mai-2021/
LOCATION:Centre de Formation Kerterre\, Route de Lanvénael\, Plomeur\, Bretagne\, 29120\, France
CATEGORIES:Formation longue
END:VEVENT
BEGIN:VEVENT
DTSTART;VALUE=DATE:20210524
DTEND;VALUE=DATE:20210529
DTSTAMP:20260421T072006
CREATED:20210108T090051Z
LAST-MODIFIED:20210108T162115Z
UID:17618-1621814400-1622246399@kerterre.org
SUMMARY:UNE KERTERRE A LA GRANDE NEF - BASE 1
DESCRIPTION:
URL:https://kerterre.org/stages/une-kerterre-a-la-grande-nef-b1/
LOCATION:A la Grande Nef\, Saint-Sulpice-sur-Risle\, France
END:VEVENT
BEGIN:VEVENT
DTSTART;VALUE=DATE:20210531
DTEND;VALUE=DATE:20210605
DTSTAMP:20260421T072006
CREATED:20210119T145731Z
LAST-MODIFIED:20210525T194028Z
UID:17807-1622419200-1622851199@kerterre.org
SUMMARY:UNE KERTERRE AU LAC DE LA GIMONE - BASE 1
DESCRIPTION:
URL:https://kerterre.org/stages/une-kerterre-au-lac-de-la-gimone-base-1/
LOCATION:La Gimone\, Saint Blancard\, 32140\, France
END:VEVENT
END:VCALENDAR