BEGIN:VCALENDAR
VERSION:2.0
PRODID:-//KERTERRE - ECPv6.15.17.1//NONSGML v1.0//EN
CALSCALE:GREGORIAN
METHOD:PUBLISH
X-WR-CALNAME:KERTERRE
X-ORIGINAL-URL:https://kerterre.org
X-WR-CALDESC:Évènements pour KERTERRE
REFRESH-INTERVAL;VALUE=DURATION:PT1H
X-Robots-Tag:noindex
X-PUBLISHED-TTL:PT1H
BEGIN:VTIMEZONE
TZID:UTC
BEGIN:STANDARD
TZOFFSETFROM:+0000
TZOFFSETTO:+0000
TZNAME:UTC
DTSTART:20200101T000000
END:STANDARD
END:VTIMEZONE
BEGIN:VEVENT
DTSTART;VALUE=DATE:20210517
DTEND;VALUE=DATE:20210605
DTSTAMP:20260421T050804
CREATED:20201204T162333Z
LAST-MODIFIED:20210429T153000Z
UID:17204-1621209600-1622851199@kerterre.org
SUMMARY:FORMATION COMPLETE MAI 2021
DESCRIPTION:
URL:https://kerterre.org/stages/formation-complete-mai-2021/
LOCATION:Centre de Formation Kerterre\, Route de Lanvénael\, Plomeur\, Bretagne\, 29120\, France
CATEGORIES:Formation longue
END:VEVENT
BEGIN:VEVENT
DTSTART;VALUE=DATE:20210531
DTEND;VALUE=DATE:20210605
DTSTAMP:20260421T050804
CREATED:20210119T145731Z
LAST-MODIFIED:20210525T194028Z
UID:17807-1622419200-1622851199@kerterre.org
SUMMARY:UNE KERTERRE AU LAC DE LA GIMONE - BASE 1
DESCRIPTION:
URL:https://kerterre.org/stages/une-kerterre-au-lac-de-la-gimone-base-1/
LOCATION:La Gimone\, Saint Blancard\, 32140\, France
END:VEVENT
BEGIN:VEVENT
DTSTART;VALUE=DATE:20210605
DTEND;VALUE=DATE:20210608
DTSTAMP:20260421T050804
CREATED:20210323T134525Z
LAST-MODIFIED:20210323T134525Z
UID:19086-1622851200-1623110399@kerterre.org
SUMMARY:B3 - UNE KERTERRE À LA FILERIE
DESCRIPTION:
URL:https://kerterre.org/stages/b3-une-kerterre-a-la-filerie/
LOCATION:La Filerie\, Fresnes\, 41700
END:VEVENT
BEGIN:VEVENT
DTSTART;VALUE=DATE:20210607
DTEND;VALUE=DATE:20210611
DTSTAMP:20260421T050804
CREATED:20210504T131532Z
LAST-MODIFIED:20210506T192816Z
UID:19736-1623024000-1623369599@kerterre.org
SUMMARY:UNE KERTERRE A ECOLAND - BASE 2
DESCRIPTION:
URL:https://kerterre.org/stages/une-kerterre-a-ecoland-base-2/
LOCATION:Arras
END:VEVENT
BEGIN:VEVENT
DTSTART;VALUE=DATE:20210607
DTEND;VALUE=DATE:20210612
DTSTAMP:20260421T050804
CREATED:20210409T151732Z
LAST-MODIFIED:20210409T214027Z
UID:19314-1623024000-1623455999@kerterre.org
SUMMARY:BASE 1 UNE KERTERRE EN ILE DE FRANCE
DESCRIPTION:
URL:https://kerterre.org/stages/base-1-une-kerterre-en-ile-de-france/
LOCATION:Brie-Comte-Robert\, France
END:VEVENT
BEGIN:VEVENT
DTSTART;VALUE=DATE:20210607
DTEND;VALUE=DATE:20210612
DTSTAMP:20260421T050804
CREATED:20210415T151409Z
LAST-MODIFIED:20210601T072934Z
UID:19090-1623024000-1623455999@kerterre.org
SUMMARY:Stage B3 - Sculptures et créations - juin
DESCRIPTION:
URL:https://kerterre.org/stages/stage-b3-sculptures-et-creations-juin/
LOCATION:Centre de Formation Kerterre\, Route de Lanvénael\, Plomeur\, Bretagne\, 29120\, France
END:VEVENT
BEGIN:VEVENT
DTSTART;VALUE=DATE:20210614
DTEND;VALUE=DATE:20210618
DTSTAMP:20260421T050804
CREATED:20210108T090358Z
LAST-MODIFIED:20210527T123900Z
UID:17619-1623628800-1623974399@kerterre.org
SUMMARY:UNE KERTERRE A LA GRANDE NEF - BASE 2
DESCRIPTION:
URL:https://kerterre.org/stages/une-kerterre-a-la-grande-nef-base-2/
LOCATION:A la Grande Nef\, Saint-Sulpice-sur-Risle\, France
CATEGORIES:Stage Base 2
END:VEVENT
BEGIN:VEVENT
DTSTART;VALUE=DATE:20210614
DTEND;VALUE=DATE:20210619
DTSTAMP:20260421T050804
CREATED:20201229T105227Z
LAST-MODIFIED:20210204T145608Z
UID:17480-1623628800-1624060799@kerterre.org
SUMMARY:UNE KERTERRE DANS LES HAUTES ALPES - BASE 1
DESCRIPTION:
URL:https://kerterre.org/stages/une-kerterre-dans-les-hautes-alpes-base-1/
LOCATION:Chez Aurore\, Briançon\, Hautes Alpes\, France
CATEGORIES:Formation courte,Stage Base 1
END:VEVENT
BEGIN:VEVENT
DTSTART;VALUE=DATE:20210614
DTEND;VALUE=DATE:20210619
DTSTAMP:20260421T050804
CREATED:20210502T085838Z
LAST-MODIFIED:20210607T094505Z
UID:19660-1623628800-1624060799@kerterre.org
SUMMARY:SUR LE SITE DES KERTERRES JUIN - BASE 1
DESCRIPTION:
URL:https://kerterre.org/stages/base-1-sur-le-site-des-kerterres/
LOCATION:Centre de Formation Kerterre\, Route de Lanvénael\, Plomeur\, Bretagne\, 29120\, France
END:VEVENT
BEGIN:VEVENT
DTSTART;VALUE=DATE:20210621
DTEND;VALUE=DATE:20210625
DTSTAMP:20260421T050804
CREATED:20201231T085126Z
LAST-MODIFIED:20210617T092656Z
UID:17521-1624233600-1624579199@kerterre.org
SUMMARY:UNE KERTERRE A COGNAC - BASE 2
DESCRIPTION:
URL:https://kerterre.org/stages/une-kerterre-a-cognac-base-2-2/
LOCATION:Chez Nelly\, Cognac\, Charente\, 16100\, France
CATEGORIES:Formation courte,Stage Base 2
END:VEVENT
BEGIN:VEVENT
DTSTART;VALUE=DATE:20210621
DTEND;VALUE=DATE:20210626
DTSTAMP:20260421T050804
CREATED:20210129T094955Z
LAST-MODIFIED:20210617T120947Z
UID:18046-1624233600-1624665599@kerterre.org
SUMMARY:UNE KERTERRE EN BELGIQUE - BASE 1
DESCRIPTION:
URL:https://kerterre.org/stages/une-kerterre-en-belgique-base-1/
LOCATION:Pont-à-Celles\, France
END:VEVENT
BEGIN:VEVENT
DTSTART;VALUE=DATE:20210626
DTEND;VALUE=DATE:20210701
DTSTAMP:20260421T050804
CREATED:20201203T092555Z
LAST-MODIFIED:20210615T203039Z
UID:17102-1624665600-1625097599@kerterre.org
SUMMARY:UNE KERTERRE EN PRESQU’ILE DE CROZON - BASE 1
DESCRIPTION:
URL:https://kerterre.org/stages/une-kerterre-en-presquile-de-crozon-b1/
LOCATION:Presqu’île de Crozon\, Lanvéoc\, Bretagne\, 29160\, France
CATEGORIES:Formation courte,Stage Base 1
END:VEVENT
BEGIN:VEVENT
DTSTART;VALUE=DATE:20210628
DTEND;VALUE=DATE:20210703
DTSTAMP:20260421T050804
CREATED:20201210T172555Z
LAST-MODIFIED:20210610T133139Z
UID:17323-1624838400-1625270399@kerterre.org
SUMMARY:UNE KERTERRE DANS LES VOSGES - BASE 1
DESCRIPTION:
URL:https://kerterre.org/stages/une-kerterre-dans-les-vosges-base-1/
LOCATION:A Fraize\, dans les Vosges\, Fraize\, Vosges\, 88230\, France
CATEGORIES:Formation courte,Stage Base 1
END:VEVENT
END:VCALENDAR