BEGIN:VCALENDAR
VERSION:2.0
PRODID:-//KERTERRE - ECPv6.15.17.1//NONSGML v1.0//EN
CALSCALE:GREGORIAN
METHOD:PUBLISH
X-WR-CALNAME:KERTERRE
X-ORIGINAL-URL:https://kerterre.org
X-WR-CALDESC:Évènements pour KERTERRE
REFRESH-INTERVAL;VALUE=DURATION:PT1H
X-Robots-Tag:noindex
X-PUBLISHED-TTL:PT1H
BEGIN:VTIMEZONE
TZID:UTC
BEGIN:STANDARD
TZOFFSETFROM:+0000
TZOFFSETTO:+0000
TZNAME:UTC
DTSTART:20210101T000000
END:STANDARD
END:VTIMEZONE
BEGIN:VEVENT
DTSTART;VALUE=DATE:20220801
DTEND;VALUE=DATE:20220804
DTSTAMP:20260420T060109
CREATED:20220509T102423Z
LAST-MODIFIED:20220824T081830Z
UID:23034-1659312000-1659571199@kerterre.org
SUMMARY:Stage B5 - Ecologie de la relation en août 2022
DESCRIPTION:
URL:https://kerterre.org/stages/stage-b5-ecologie-relationnelle-en-aout-2022/
LOCATION:Centre de Formation Kerterre\, Route de Lanvénael\, Plomeur\, Bretagne\, 29120\, France
CATEGORIES:B5 aout
END:VEVENT
BEGIN:VEVENT
DTSTART;VALUE=DATE:20220801
DTEND;VALUE=DATE:20220806
DTSTAMP:20260420T060109
CREATED:20220111T101738Z
LAST-MODIFIED:20220111T185448Z
UID:21602-1659312000-1659743999@kerterre.org
SUMMARY:Inscription stage B3 Sculpture et création à Terre de Naissance du 1er au 5 aout 2022
DESCRIPTION:
URL:https://kerterre.org/stages/inscription-stage-b3-une-kerterre-pour-terre-de-naissance-du-1er-au-5-aout-2022/
LOCATION:Chessy les prés\, 10130\, France
CATEGORIES:Stage Base 3
END:VEVENT
BEGIN:VEVENT
DTSTART;VALUE=DATE:20220801
DTEND;VALUE=DATE:20220806
DTSTAMP:20260420T060109
CREATED:20220308T133417Z
LAST-MODIFIED:20220308T133417Z
UID:22285-1659312000-1659743999@kerterre.org
SUMMARY:Stage B1 - Une kerterre en Provence verte - du 1er au 5 août 2022
DESCRIPTION:
URL:https://kerterre.org/stages/stage-b1-une-kerterre-en-provence-verte-du-1er-au-5-aout-2022/
LOCATION:Aups\, 83630\, France
END:VEVENT
BEGIN:VEVENT
DTSTART;VALUE=DATE:20220801
DTEND;VALUE=DATE:20220806
DTSTAMP:20260420T060109
CREATED:20220616T085541Z
LAST-MODIFIED:20220616T085610Z
UID:23384-1659312000-1659743999@kerterre.org
SUMMARY:Stage B2 - Une kerterre à Terre de Naissance du 1er au 5 août 2022
DESCRIPTION:
URL:https://kerterre.org/stages/stage-b2-une-kerterre-a-terre-de-naissance-du-1er-au-5-aout-2022/
LOCATION:Chessy les prés\, 10130\, France
CATEGORIES:Stage Base 2
END:VEVENT
BEGIN:VEVENT
DTSTART;VALUE=DATE:20220801
DTEND;VALUE=DATE:20220820
DTSTAMP:20260420T060109
CREATED:20211115T144515Z
LAST-MODIFIED:20220713T124423Z
UID:20912-1659312000-1660953599@kerterre.org
SUMMARY:Formation complète du 1er août au 19 août 2022
DESCRIPTION:
URL:https://kerterre.org/stages/formation-complete-du-1er-aout-au-19-aout-2022/
LOCATION:Centre de Formation Kerterre\, Route de Lanvénael\, Plomeur\, Bretagne\, 29120\, France
END:VEVENT
BEGIN:VEVENT
DTSTART;TZID=UTC:20220802T100000
DTEND;TZID=UTC:20220802T120000
DTSTAMP:20260420T060109
CREATED:20220609T124757Z
LAST-MODIFIED:20220609T124757Z
UID:23312-1659434400-1659441600@kerterre.org
SUMMARY:Visite privée du 2 août
DESCRIPTION:
URL:https://kerterre.org/stages/visite-privee-du-2-aout/
LOCATION:Plomeur\, Plomeur\, 29120\, France
CATEGORIES:Visites spéciales
END:VEVENT
BEGIN:VEVENT
DTSTART;TZID=UTC:20220803T140000
DTEND;TZID=UTC:20220803T160000
DTSTAMP:20260420T060109
CREATED:20220609T124958Z
LAST-MODIFIED:20220609T124958Z
UID:23315-1659535200-1659542400@kerterre.org
SUMMARY:Visite privée du 3 août
DESCRIPTION:
URL:https://kerterre.org/stages/visite-privee-du-3-aout/
LOCATION:Plomeur\, Plomeur\, 29120\, France
CATEGORIES:Visites spéciales
END:VEVENT
BEGIN:VEVENT
DTSTART;VALUE=DATE:20220804
DTEND;VALUE=DATE:20220806
DTSTAMP:20260420T060109
CREATED:20220614T091221Z
LAST-MODIFIED:20220620T151432Z
UID:23363-1659571200-1659743999@kerterre.org
SUMMARY:Stage jardin bonifiant - du 4 au 5 août 2022
DESCRIPTION:
URL:https://kerterre.org/stages/stage-jardin-bonifiant-du-4-au-5-aout-2022/
LOCATION:Centre de Formation Kerterre\, Route de Lanvénael\, Plomeur\, Bretagne\, 29120\, France
CATEGORIES:B4 aout B4B5
END:VEVENT
BEGIN:VEVENT
DTSTART;VALUE=DATE:20220806
DTEND;VALUE=DATE:20220811
DTSTAMP:20260420T060109
CREATED:20211130T193345Z
LAST-MODIFIED:20211130T193406Z
UID:21170-1659744000-1660175999@kerterre.org
SUMMARY:Stage B2 Une Kerterre à Pas de coté -2022
DESCRIPTION:
URL:https://kerterre.org/stages/stage-b2-une-kerterre-a-un-pas-de-cote-2022/
LOCATION:Puy Saint Eusèbe\, 05200\, France
END:VEVENT
BEGIN:VEVENT
DTSTART;VALUE=DATE:20220808
DTEND;VALUE=DATE:20220811
DTSTAMP:20260420T060109
CREATED:20211216T163450Z
LAST-MODIFIED:20211216T163522Z
UID:21358-1659916800-1660175999@kerterre.org
SUMMARY:Habiter sa voix - Août 2022
DESCRIPTION:
URL:https://kerterre.org/stages/habiter-sa-voix-aout-2022/
LOCATION:Centre de Formation Kerterre\, Route de Lanvénael\, Plomeur\, Bretagne\, 29120\, France
END:VEVENT
BEGIN:VEVENT
DTSTART;VALUE=DATE:20220808
DTEND;VALUE=DATE:20220813
DTSTAMP:20260420T060109
CREATED:20220119T112748Z
LAST-MODIFIED:20220503T082827Z
UID:21670-1659916800-1660348799@kerterre.org
SUMMARY:Stage B1 - Une Kerterre à la Ferme Beau Soleil - 2022
DESCRIPTION:
URL:https://kerterre.org/stages/stage-b1-une-kerterre-a-la-ferme-beau-soleil-2022/
LOCATION:Maisdon sur Sèvre\, 44690\, France
END:VEVENT
BEGIN:VEVENT
DTSTART;TZID=UTC:20220809T100000
DTEND;TZID=UTC:20220809T120000
DTSTAMP:20260420T060109
CREATED:20220609T125143Z
LAST-MODIFIED:20220609T125143Z
UID:23318-1660039200-1660046400@kerterre.org
SUMMARY:Visite privée du 9 août
DESCRIPTION:
URL:https://kerterre.org/stages/visite-privee-du-9-aout/
LOCATION:Plomeur\, Plomeur\, 29120\, France
CATEGORIES:Visites spéciales
END:VEVENT
BEGIN:VEVENT
DTSTART;VALUE=DATE:20220815
DTEND;VALUE=DATE:20220820
DTSTAMP:20260420T060109
CREATED:20220222T171210Z
LAST-MODIFIED:20220222T174100Z
UID:22104-1660521600-1660953599@kerterre.org
SUMMARY:Stage B2 Une Kerterre au Jardin Gourmand 2022
DESCRIPTION:
URL:https://kerterre.org/stages/stage-b2-une-kerterre-au-jardin-gourmand-2022/
LOCATION:Loqueffret\, 29141
END:VEVENT
BEGIN:VEVENT
DTSTART;VALUE=DATE:20220815
DTEND;VALUE=DATE:20220820
DTSTAMP:20260420T060109
CREATED:20220408T082419Z
LAST-MODIFIED:20220810T082526Z
UID:22689-1660521600-1660953599@kerterre.org
SUMMARY:Stage B1 - Une Kerterre à Groix - 2022
DESCRIPTION:
URL:https://kerterre.org/stages/stage-b1-une-kerterre-a-groix-2022/
LOCATION:Groix\, France
CATEGORIES:Stage Base 1
END:VEVENT
BEGIN:VEVENT
DTSTART;TZID=UTC:20220816T100000
DTEND;TZID=UTC:20220816T120000
DTSTAMP:20260420T060109
CREATED:20220609T125516Z
LAST-MODIFIED:20220609T125516Z
UID:23322-1660644000-1660651200@kerterre.org
SUMMARY:Visite privée du 16 août
DESCRIPTION:
URL:https://kerterre.org/stages/visite-privee-du-16-aout/
LOCATION:Plomeur\, Plomeur\, 29120\, France
CATEGORIES:Visites spéciales
END:VEVENT
BEGIN:VEVENT
DTSTART;TZID=UTC:20220817T140000
DTEND;TZID=UTC:20220817T160000
DTSTAMP:20260420T060109
CREATED:20220609T125703Z
LAST-MODIFIED:20220609T125703Z
UID:23325-1660744800-1660752000@kerterre.org
SUMMARY:Visite privée du 17 août
DESCRIPTION:
URL:https://kerterre.org/stages/visite-privee-du-17-aout/
LOCATION:Plomeur\, Plomeur\, 29120\, France
CATEGORIES:Visites spéciales
END:VEVENT
BEGIN:VEVENT
DTSTART;VALUE=DATE:20220822
DTEND;VALUE=DATE:20220827
DTSTAMP:20260420T060109
CREATED:20220308T134517Z
LAST-MODIFIED:20220308T134641Z
UID:22290-1661126400-1661558399@kerterre.org
SUMMARY:Stage B2 – Une kerterre en Provence verte – du 22 au 26 août 2022
DESCRIPTION:
URL:https://kerterre.org/stages/stage-b2-une-kerterre-en-provence-verte-du-22-au-26-aout-2022/
LOCATION:Aups\, 83630\, France
END:VEVENT
BEGIN:VEVENT
DTSTART;VALUE=DATE:20220822
DTEND;VALUE=DATE:20220827
DTSTAMP:20260420T060109
CREATED:20220311T095615Z
LAST-MODIFIED:20220311T095736Z
UID:22330-1661126400-1661558399@kerterre.org
SUMMARY:Stage B1 Une Kerterre dans l'Orne du 22 au 26 août 2022
DESCRIPTION:
URL:https://kerterre.org/stages/stage-b1-une-kerterre-dans-lorne-du-22-au-26-aout-2022/
LOCATION:Crulai\, 61300\, France
END:VEVENT
BEGIN:VEVENT
DTSTART;VALUE=DATE:20220822
DTEND;VALUE=DATE:20220910
DTSTAMP:20260420T060109
CREATED:20211115T144317Z
LAST-MODIFIED:20220505T175035Z
UID:20910-1661126400-1662767999@kerterre.org
SUMMARY:Formation complète du 22 août au 9 septembre 2022
DESCRIPTION:
URL:https://kerterre.org/stages/formation-complete-du-22-aout-au-9-septembre-2022/
LOCATION:Centre de Formation Kerterre\, Route de Lanvénael\, Plomeur\, Bretagne\, 29120\, France
END:VEVENT
BEGIN:VEVENT
DTSTART;VALUE=DATE:20220829
DTEND;VALUE=DATE:20220903
DTSTAMP:20260420T060109
CREATED:20220408T084251Z
LAST-MODIFIED:20220531T082542Z
UID:22693-1661731200-1662163199@kerterre.org
SUMMARY:Stage B1 - Une Kerterre au coeur du Pays Basque -  29 août au 2 septembre 2022
DESCRIPTION:
URL:https://kerterre.org/stages/stage-b1-une-kerterre-au-coeur-du-pays-basque-29-juillet-au-2-aout-2022/
LOCATION:entre Menditte et Sauguis – Saint Etienne\, France
CATEGORIES:Stage Base 1
END:VEVENT
END:VCALENDAR