BEGIN:VCALENDAR
VERSION:2.0
PRODID:-//KERTERRE - ECPv6.15.17.1//NONSGML v1.0//EN
CALSCALE:GREGORIAN
METHOD:PUBLISH
X-WR-CALNAME:KERTERRE
X-ORIGINAL-URL:https://kerterre.org
X-WR-CALDESC:Évènements pour KERTERRE
REFRESH-INTERVAL;VALUE=DURATION:PT1H
X-Robots-Tag:noindex
X-PUBLISHED-TTL:PT1H
BEGIN:VTIMEZONE
TZID:UTC
BEGIN:STANDARD
TZOFFSETFROM:+0000
TZOFFSETTO:+0000
TZNAME:UTC
DTSTART:20220101T000000
END:STANDARD
END:VTIMEZONE
BEGIN:VEVENT
DTSTART;VALUE=DATE:20230408
DTEND;VALUE=DATE:20230411
DTSTAMP:20260419T170729
CREATED:20220920T085614Z
LAST-MODIFIED:20221227T093740Z
UID:23999-1680912000-1681171199@kerterre.org
SUMMARY:Stage B5 - Ecologie de la relation - 8 au 10 avril 2023 - Plomeur
DESCRIPTION:
URL:https://kerterre.org/stages/stage-b5-ecologie-de-la-relation-8-au-10-avril-2023-plomeur/
LOCATION:Centre de Formation Kerterre\, Route de Lanvénael\, Plomeur\, Bretagne\, 29120\, France
END:VEVENT
BEGIN:VEVENT
DTSTART;VALUE=DATE:20230408
DTEND;VALUE=DATE:20230411
DTSTAMP:20260419T170729
CREATED:20230302T180247Z
LAST-MODIFIED:20230302T181353Z
UID:25387-1680912000-1681171199@kerterre.org
SUMMARY:stage de création et sculpture d’une cheminée de décoration du 8 au 10 avril 2023
DESCRIPTION:
URL:https://kerterre.org/stages/stage-de-creation-et-sculpture-dune-cheminee-de-decoration-du-8-au-10-avril-2023/
LOCATION:A Plomeur\, Plomeur\, France
END:VEVENT
BEGIN:VEVENT
DTSTART;VALUE=DATE:20230412
DTEND;VALUE=DATE:20230415
DTSTAMP:20260419T170729
CREATED:20230302T182046Z
LAST-MODIFIED:20230302T182046Z
UID:25391-1681257600-1681516799@kerterre.org
SUMMARY:Stage réalisation d'une rosace du 12 au 14 avril 2023
DESCRIPTION:
URL:https://kerterre.org/stages/stage-realisation-dune-rosace-du-12-au-14-avril-2023/
LOCATION:A Plomeur\, Plomeur\, France
END:VEVENT
BEGIN:VEVENT
DTSTART;VALUE=DATE:20230424
DTEND;VALUE=DATE:20230429
DTSTAMP:20260419T170729
CREATED:20220920T090417Z
LAST-MODIFIED:20220920T090431Z
UID:24002-1682294400-1682726399@kerterre.org
SUMMARY:Stage B3 - Sculpture - 24 au 28 avril 2023 - Plomeur
DESCRIPTION:
URL:https://kerterre.org/stages/stage-b3-sculpture-24-au-28-avril-2023-plomeur/
LOCATION:Centre de Formation Kerterre\, Route de Lanvénael\, Plomeur\, Bretagne\, 29120\, France
END:VEVENT
BEGIN:VEVENT
DTSTART;VALUE=DATE:20230429
DTEND;VALUE=DATE:20230504
DTSTAMP:20260419T170729
CREATED:20220920T090658Z
LAST-MODIFIED:20220920T090711Z
UID:24007-1682726400-1683158399@kerterre.org
SUMMARY:Stage B1 - Structure - 29 avril au 3 mai 2023 - Plomeur
DESCRIPTION:
URL:https://kerterre.org/stages/stage-b1-structure-29-avril-au-3-mai-2023-plomeur/
LOCATION:Centre de Formation Kerterre\, Route de Lanvénael\, Plomeur\, Bretagne\, 29120\, France
END:VEVENT
BEGIN:VEVENT
DTSTART;VALUE=DATE:20230429
DTEND;VALUE=DATE:20230504
DTSTAMP:20260419T170729
CREATED:20230119T093913Z
LAST-MODIFIED:20230308T094040Z
UID:24788-1682726400-1683158399@kerterre.org
SUMMARY:Stage B1 - Structure - Une Kerterre au Verger du 29 avril au 3 mai 2023
DESCRIPTION:
URL:https://kerterre.org/stages/stage-b1-structure-une-kerterre-au-verger-du-29-avril-au-3-mai-2023/
LOCATION:Tournemire\, 12250
CATEGORIES:Stage Base 1
END:VEVENT
END:VCALENDAR