BEGIN:VCALENDAR
VERSION:2.0
PRODID:-//KERTERRE - ECPv6.15.17.1//NONSGML v1.0//EN
CALSCALE:GREGORIAN
METHOD:PUBLISH
X-WR-CALNAME:KERTERRE
X-ORIGINAL-URL:https://kerterre.org
X-WR-CALDESC:Évènements pour KERTERRE
REFRESH-INTERVAL;VALUE=DURATION:PT1H
X-Robots-Tag:noindex
X-PUBLISHED-TTL:PT1H
BEGIN:VTIMEZONE
TZID:UTC
BEGIN:STANDARD
TZOFFSETFROM:+0000
TZOFFSETTO:+0000
TZNAME:UTC
DTSTART:20220101T000000
END:STANDARD
END:VTIMEZONE
BEGIN:VEVENT
DTSTART;VALUE=DATE:20230429
DTEND;VALUE=DATE:20230504
DTSTAMP:20260419T140259
CREATED:20220920T090658Z
LAST-MODIFIED:20220920T090711Z
UID:24007-1682726400-1683158399@kerterre.org
SUMMARY:Stage B1 - Structure - 29 avril au 3 mai 2023 - Plomeur
DESCRIPTION:
URL:https://kerterre.org/stages/stage-b1-structure-29-avril-au-3-mai-2023-plomeur/
LOCATION:Centre de Formation Kerterre\, Route de Lanvénael\, Plomeur\, Bretagne\, 29120\, France
END:VEVENT
BEGIN:VEVENT
DTSTART;VALUE=DATE:20230429
DTEND;VALUE=DATE:20230504
DTSTAMP:20260419T140259
CREATED:20230119T093913Z
LAST-MODIFIED:20230308T094040Z
UID:24788-1682726400-1683158399@kerterre.org
SUMMARY:Stage B1 - Structure - Une Kerterre au Verger du 29 avril au 3 mai 2023
DESCRIPTION:
URL:https://kerterre.org/stages/stage-b1-structure-une-kerterre-au-verger-du-29-avril-au-3-mai-2023/
LOCATION:Tournemire\, 12250
CATEGORIES:Stage Base 1
END:VEVENT
BEGIN:VEVENT
DTSTART;VALUE=DATE:20230501
DTEND;VALUE=DATE:20230520
DTSTAMP:20260419T140259
CREATED:20220920T100857Z
LAST-MODIFIED:20230429T133812Z
UID:24023-1682899200-1684540799@kerterre.org
SUMMARY:Formation complète du 1er mai au 19 mai 2023
DESCRIPTION:
URL:https://kerterre.org/stages/formation-complete-du-1er-mai-au-19-mai-2023/
LOCATION:Centre de Formation Kerterre\, Route de Lanvénael\, Plomeur\, Bretagne\, 29120\, France
END:VEVENT
BEGIN:VEVENT
DTSTART;VALUE=DATE:20230505
DTEND;VALUE=DATE:20230510
DTSTAMP:20260419T140259
CREATED:20220920T092425Z
LAST-MODIFIED:20230429T133916Z
UID:24017-1683244800-1683676799@kerterre.org
SUMMARY:Stage B2 - Enduits - 5 au 9 mai 2023 - Plomeur
DESCRIPTION:
URL:https://kerterre.org/stages/stage-b2-enduits-5-au-9-mai-2023-plomeur/
LOCATION:Centre de Formation Kerterre\, Route de Lanvénael\, Plomeur\, Bretagne\, 29120\, France
END:VEVENT
BEGIN:VEVENT
DTSTART;VALUE=DATE:20230508
DTEND;VALUE=DATE:20230513
DTSTAMP:20260419T140259
CREATED:20230308T082926Z
LAST-MODIFIED:20230308T084741Z
UID:25411-1683504000-1683935999@kerterre.org
SUMMARY:Stage B1 Structure - Une Kerterre au sentier sculpturel des Corbières du 8 au 12 mai 2023
DESCRIPTION:
URL:https://kerterre.org/stages/stage-b1-structure-une-kerterre-au-sentier-sculpturel-des-corbieres-du-8-au-12-mai-2023/
LOCATION:Mayronnes\, 11220
END:VEVENT
BEGIN:VEVENT
DTSTART;VALUE=DATE:20230513
DTEND;VALUE=DATE:20230514
DTSTAMP:20260419T140259
CREATED:20221004T074711Z
LAST-MODIFIED:20221004T074711Z
UID:24143-1683936000-1684022399@kerterre.org
SUMMARY:Initiation au handpan 13 mai 2023
DESCRIPTION:
URL:https://kerterre.org/stages/initiation-au-handpan-13-mai-2023/
LOCATION:Centre de Formation Kerterre\, Route de Lanvénael\, Plomeur\, Bretagne\, 29120\, France
END:VEVENT
BEGIN:VEVENT
DTSTART;VALUE=DATE:20230514
DTEND;VALUE=DATE:20230515
DTSTAMP:20260419T140259
CREATED:20221004T075154Z
LAST-MODIFIED:20221004T090041Z
UID:24146-1684022400-1684108799@kerterre.org
SUMMARY:Initiation au Handpan - 14 mai 2023
DESCRIPTION:
URL:https://kerterre.org/stages/initiation-au-handpan-14-mai-2023/
LOCATION:Centre de Formation Kerterre\, Route de Lanvénael\, Plomeur\, Bretagne\, 29120\, France
END:VEVENT
BEGIN:VEVENT
DTSTART;VALUE=DATE:20230515
DTEND;VALUE=DATE:20230520
DTSTAMP:20260419T140259
CREATED:20221005T064940Z
LAST-MODIFIED:20221005T071550Z
UID:24165-1684108800-1684540799@kerterre.org
SUMMARY:B2 - Enduits - Une Kerterre dans les Bois - 15 au 19 mai 2023
DESCRIPTION:
URL:https://kerterre.org/stages/b2-enduits-une-kerterre-dans-les-bois-15-au-19-mai-2023/
LOCATION:Saint Pierre de Cole\, 24800\, France
END:VEVENT
BEGIN:VEVENT
DTSTART;VALUE=DATE:20230517
DTEND;VALUE=DATE:20230522
DTSTAMP:20260419T140259
CREATED:20221110T083432Z
LAST-MODIFIED:20221110T101300Z
UID:24323-1684281600-1684713599@kerterre.org
SUMMARY:Stage B1 – Structure – 17 au 21 mai 2023 – Plomeur
DESCRIPTION:
URL:https://kerterre.org/stages/stage-b1-structure-17-au-21-mai-2023-plomeur/
LOCATION:Centre de Formation Kerterre\, Route de Lanvénael\, Plomeur\, Bretagne\, 29120\, France
CATEGORIES:Stage Base 1
END:VEVENT
BEGIN:VEVENT
DTSTART;VALUE=DATE:20230522
DTEND;VALUE=DATE:20230527
DTSTAMP:20260419T140259
CREATED:20221110T092340Z
LAST-MODIFIED:20221110T092534Z
UID:24326-1684713600-1685145599@kerterre.org
SUMMARY:Stage B2 - Une kerterre à Terre de naissance du 22 au 26 mai 2023
DESCRIPTION:
URL:https://kerterre.org/stages/stage-b2-une-kerterre-a-terre-de-naissance-du-22-au-26-mai-2023/
LOCATION:Chessy les prés\, 10130\, France
CATEGORIES:Stage Base 2
END:VEVENT
BEGIN:VEVENT
DTSTART;VALUE=DATE:20230522
DTEND;VALUE=DATE:20230610
DTSTAMP:20260419T140259
CREATED:20220920T102459Z
LAST-MODIFIED:20230221T090210Z
UID:24031-1684713600-1686355199@kerterre.org
SUMMARY:Formation complète du 22 mai au 9 juin 2023
DESCRIPTION:
URL:https://kerterre.org/stages/formation-complete-du-22-mai-au-9-juin-2023/
LOCATION:Centre de Formation Kerterre\, Route de Lanvénael\, Plomeur\, Bretagne\, 29120\, France
END:VEVENT
BEGIN:VEVENT
DTSTART;VALUE=DATE:20230527
DTEND;VALUE=DATE:20230601
DTSTAMP:20260419T140259
CREATED:20221209T095038Z
LAST-MODIFIED:20230502T093255Z
UID:24424-1685145600-1685577599@kerterre.org
SUMMARY:Stage B1 Structure - Une Kerterre à Brocéliande du 27 au 31 mai 2023
DESCRIPTION:
URL:https://kerterre.org/stages/stage-b1-structure-une-kerterre-a-broceliande-du-27-au-31-mai-2023/
LOCATION:Treffendel\, 35340
END:VEVENT
BEGIN:VEVENT
DTSTART;VALUE=DATE:20230529
DTEND;VALUE=DATE:20230603
DTSTAMP:20260419T140259
CREATED:20230120T125025Z
LAST-MODIFIED:20230120T125200Z
UID:24845-1685318400-1685750399@kerterre.org
SUMMARY:Stage B1 Structure - construction - Une Kerterre en terre de Cognac - du 29 mai au 2 juin 2023
DESCRIPTION:
URL:https://kerterre.org/stages/stage-b1-structure-construction-une-kerterre-en-terre-de-cognac-du-29-mai-au-2-juin-2023/
LOCATION:Châteauneuf-sur-Charente\, 16120\, France
END:VEVENT
END:VCALENDAR